{"text_format":"1","workbook":"xlsx","n_sheets":3,"sheets":["원가 (안전관리비 자동계산)","원가","적용기준"],"not_rendered":{"charts":0,"images":0,"macros":1,"external_links":2,"defined_names":9,"comments":3,"pivot_tables":0},"unopened":[],"bounds":{"document_bytes":16777216,"sheet_cells":100000,"rows_first":2000,"rows_last":500,"rows_between":2000,"halvings":0,"cell_chars":16384,"cell_head_chars":4096},"cells_cut":0,"cells_raw":0,"read":"whole","date_system":"1900"}

{"sheet":"원가 (안전관리비 자동계산)","index":0,"n_rows":42,"n_cols":14,"rows_kept":42,"cut":false,"hidden":false,"merged":[[19,10,21,10],[26,1,26,2],[27,0,28,0],[27,10,34,10],[38,0,38,2],[36,0,36,2],[28,1,28,2],[35,0,35,2],[33,0,33,2],[5,0,26,0],[5,1,7,1],[8,1,10,1],[11,1,25,1],[41,5,41,7],[29,0,29,2],[30,0,30,2],[31,0,31,2],[32,0,32,2],[41,0,41,2],[34,5,34,7],[37,0,37,2],[40,0,40,2],[34,0,34,2],[39,0,39,2],[3,11,4,11],[3,12,4,12],[2,11,2,12],[0,0,0,7],[1,0,1,1],[1,2,1,7],[2,0,2,1],[2,3,2,7],[3,0,3,2],[3,3,4,3],[3,4,4,4],[3,5,4,7],[4,0,4,2]]}
["공  사  원  가  계  산  서"]
["공사명:",null,"OO중 외벽개선, 창호교체 공사건 (합계)"]
["적용기준 :",null,"2017 상반기","적용기준: 5억미만, 6개월이하 자료임, 그이상 자료는 교육시설과 일위대가표 참조                                     170608",null,null,null,null,null,null,null,"분리"]
["구          분",null,null,"금           액","사용여부","비                  고",null,null,null,null,null,"창호","외벽"]
["비          목"]
["순    공    사    원    가","재료비","직 접 재 료 비",{"$f":"L6+M6","v":25813654},null,null,null,null,null,null,null,5076270,20737384,{"$f":"D6-L6-M6","v":0}]
[null,null,"작 업 부 산 물",null,null,null,null,null,null,null,null,null,null,{"$f":"D7-L7-M7","v":0}]
[null,null,"소     계   (A)",{"$f":"D6-D7","v":25813654},null,null,null,null,null,null,null,{"$f":"L6-L7","v":5076270},{"$f":"M6-M7","v":20737384},0]
[null,"노무비","직접노무비 (가)",{"$f":"L9+M9","v":5809546},null,null,null,null,null,null,null,2717865,3091681,0]
[null,null,"간 접 노 무 비",{"$f":"INT(D9*H10)","v":563525},null,"(가)","×",{"$f":"I10","v":9.7000000000000003E-2},{"$f":"VLOOKUP(C3,적용기준!A:N,2,FALSE)","v":9.7000000000000003E-2},{"$f":"IF(H10=I10,\"정상\",\"수정\")","v":"정상"},null,{"$f":"INT(L9*$H$10)","v":263632},{"$f":"INT(M9*$H$10)","v":299893},0]
[null,null,"소     계   (B)",{"$f":"SUM(D9:D10)","v":6373071},null,null,null,null,null,null,null,{"$f":"SUM(L9:L10)","v":2981497},{"$f":"SUM(M9:M10)","v":3391574},0]
[null,"경비","기   계  경  비",{"$f":"L12+M12","v":17935},null,null,null,null,null,null,null,7576,10359,0]
[null,null,"산   출  경  비",null,null,null,null,null,null,null,null,null,null,0]
[null,null,"산 재 보 험 료",{"$f":"IF(E14=\"적용\",INT(D11*H14),0)","v":248549},"적용","(B)","×",{"$f":"I14","v":3.9E-2},{"$f":"VLOOKUP(C3,적용기준!A:N,5,FALSE)","v":3.9E-2},{"$f":"IF(H14=I14,\"정상\",\"수정\")","v":"정상"},null,{"$f":"IF($E$14=\"적용\",INT(L11*$H$14),0)","v":116278},{"$f":"IF($E$14=\"적용\",INT(M11*$H$14),0)","v":132271},0]
[null,null,"고  용   보  험",{"$f":"IF(E15=\"적용\",INT(D11*H15),0)","v":55445},"적용","(B)","×",{"$f":"I15","v":8.6999999999999994E-3},{"$f":"VLOOKUP(C3,적용기준!A:N,7,FALSE)","v":8.6999999999999994E-3},{"$f":"IF(H15=I15,\"정상\",\"수정\")","v":"정상"},null,{"$f":"IF($E$15=\"적용\",INT(L11*$H$15),0)","v":25939},{"$f":"IF($E$15=\"적용\",INT(M11*$H$15),0)","v":29506},0]
[null,null,"안전관리비(비율)",{"$f":"IF(D35<40000000,0,+(D8+D9)*H16)","v":926559.76},{"$f":"IF(D35<40000000,\"미적용\",\"적용\")","v":"적용"},"(A+가+관급/1.1)","×",{"$f":"I16","v":2.93E-2},{"$f":"VLOOKUP(C3,적용기준!A:N,4,FALSE)","v":2.93E-2},{"$f":"IF(H16=I16,\"정상\",\"수정\")","v":"정상"},null,{"$f":"IF(L35<40000000,0,+(L8+L9)*$H$16)","v":0},{"$f":"IF(M35<40000000,0,+(M8+M9)*$H$16)","v":0},926559.76]
[null,null,"안전관리비기본경비",null,null,null,null,null,null,null,null,null,null,0]
[null,null,"퇴직공제부금비",{"$f":"IF(D35<300000000,0,INT(D9*H18))","v":0},{"$f":"IF(D35<300000000,\"미적용\",\"적용\")","v":"미적용"},"(가)","×",{"$f":"I18","v":2.3E-2},{"$f":"VLOOKUP(C3,적용기준!A:N,6,FALSE)","v":2.3E-2},{"$f":"IF(H18=I18,\"정상\",\"수정\")","v":"정상"},null,{"$f":"IF(L35<300000000,0,INT(L9*$H$18))","v":0},{"$f":"IF(M35<300000000,0,INT(M9*$H$18))","v":0},0]
[null,null,"환  경  보 전 비",{"$f":"IF(E19=\"적용\",INT((D8+D9+D12)*H19),0)","v":158205},"적용","(A+가+기계경비)","×",5.0000000000000001E-3,{"$f":"VLOOKUP(C3,적용기준!A:N,11,FALSE)","v":5.0000000000000001E-3},"정상","전기,통신,소방 제외",{"$f":"IF($E$19=\"적용\",INT((L8+L9+L12)*$H$19),0)","v":39008},{"$f":"IF($E$19=\"적용\",INT((M8+M9+M12)*$H$19),0)","v":119197},0]
[null,null,"건 강 보 험 료",{"$f":"IF(E20=\"적용\",INT(D9*H20),0)","v":98762},"적용","(가)","×",1.7000000000000001E-2,{"$f":"VLOOKUP(C3,적용기준!A:N,9,FALSE)","v":1.7000000000000001E-2},"정상","1개월이상 공사 해당",{"$f":"IF($E$20=\"적용\",INT(L9*$H$20),0)","v":46203},{"$f":"IF($E$20=\"적용\",INT(M9*$H$20),0)","v":52558},1]
[null,null,"노인장기요양보험료",{"$f":"+D20*H21","v":6468.9110000000001},null,"(건강보험료)","×",{"$f":"I21","v":6.5500000000000003E-2},{"$f":"VLOOKUP(C3,적용기준!A:N,10,FALSE)","v":6.5500000000000003E-2},"정상",null,{"$f":"+L20*$H$21","v":3026.2964999999999},{"$f":"+M20*$H$21","v":3442.549},6.5500000000156433E-2]
[null,null,"연 금 보 험 료",{"$f":"IF(E22=\"적용\",INT(D9*H22),0)","v":144657},"적용","(가)","×",2.4899999999999999E-2,{"$f":"VLOOKUP(C3,적용기준!A:N,8,FALSE)","v":2.4899999999999999E-2},"정상",null,{"$f":"IF($E$22=\"적용\",INT(L9*$H$22),0)","v":67674},{"$f":"IF($E$22=\"적용\",INT(M9*$H$22),0)","v":76982},1]
[null,null,"기  타   경  비",{"$f":"INT((D8+D11)*H23)","v":1544962},null,"(A+B)","×",4.8000000000000001E-2,{"$f":"VLOOKUP(C3,적용기준!A:N,3,FALSE)","v":4.8000000000000001E-2},"정상",null,{"$f":"INT((L8+L11)*$H$23)","v":386772},{"$f":"INT((M8+M11)*$H$23)","v":1158189},1]
[null,null,"하도급지급보증수수료",{"$f":"IF(E24=\"적용\",INT((D8+D9+D12)*H24),0)","v":25629},"적용","(A+가+기계경비)","×",8.0999999999999996E-4,{"$f":"VLOOKUP(C3,적용기준!A:N,12,FALSE)","v":8.0999999999999996E-4},"정상",null,{"$f":"IF($E$24=\"적용\",INT((L8+L9+L12)*$H$24),0)","v":6319},{"$f":"IF($E$24=\"적용\",INT((M8+M9+M12)*$H$24),0)","v":19309},1]
[null,null,"건설기계대여금\n지급보증서발급수수료",{"$f":"IF(E25=\"적용\",INT((D8+D9+D12)*H25),0)","v":22148},"적용","(A+가+기계경비)","×",6.9999999999999999E-4,{"$f":"VLOOKUP(C3,적용기준!A:O,15,FALSE)","v":6.9999999999999999E-4},"정상",null,{"$f":"IF($E$25=\"적용\",INT((L8+L9+L12)*$H$25),0)","v":5461},{"$f":"IF($E$25=\"적용\",INT((M8+M9+M12)*$H$25),0)","v":16687},0]
[null,null,"소     계   (C)",{"$f":"D28+D16+D18","v":3249320.6710000001},null,null,null,null,null,null,null,{"$f":"L28+L16+L18","v":704256.29649999994},{"$f":"M28+M16+M18","v":1618500.5490000001},926563.8254999998]
[null,"합                   계",null,{"$f":"D8+D11+D26","v":35436045.671000004},null,null,null,null,null,null,null,{"$f":"L8+L11+L26","v":8762023.2964999992},{"$f":"M8+M11+M26","v":25747458.548999999},926563.82550000772]
[null,null,"소     계   (C)",{"$f":"SUM(D12:D15)+SUM(D19:D25)+D17","v":2322760.9110000003},null,null,null,null,null,null,"안전관리비 대상 판단",{"$f":"SUM(L12:L15)+SUM(L19:L25)+L17","v":704256.29649999994},{"$f":"SUM(M12:M15)+SUM(M19:M25)+M17","v":1618500.5490000001},4.0655000002589077]
[null,"합                   계",null,{"$f":"+D8+D11+D28","v":34509485.910999998},null,null,null,null,null,null,null,{"$f":"+L8+L11+L28","v":8762023.2964999992},{"$f":"+M8+M11+M28","v":25747458.548999999},4.0655000023543835]
["일   반   관   리   비    (D)",null,null,{"$f":"INT(D29*H36)","v":2070569},null,null,null,null,null,null,null,{"$f":"INT(L29*$H$36)","v":525721},{"$f":"INT(M29*$H$36)","v":1544847},1]
["이                    윤     (E)",null,null,{"$f":"(D11+D28+D30)*H37","v":1614960.13665},null,null,null,null,null,null,null,{"$f":"(L11+L28+L30)*$H$37","v":631721.14447499998},{"$f":"(M11+M28+M30)*$H$37","v":983238.23235000006},0.75982499995734543]
["폐   기   물     처   리   비",null,null,{"$f":"D38","v":343861},null,null,null,null,null,null,null,{"$f":"L38","v":308337},{"$f":"M38","v":35524},0]
["총             원             가",null,null,{"$f":"D29+D30+D31+D32","v":38538876.047650002},null,null,null,null,null,null,null,{"$f":"L29+L30+L31+L32","v":10227802.440974999},{"$f":"M29+M30+M31+M32","v":28311067.781349998},5.8253250047564507]
["부             가             세",null,null,{"$f":"INT(D33*10%)","v":3853887},null,null,null,null,null,null,null,{"$f":"INT(L33*10%)","v":1022780},{"$f":"INT(M33*10%)","v":2831106},1]
["합                             계",null,null,{"$f":"ROUNDDOWN(SUM(D33:D34),-1)","v":42392760},null,null,null,null,null,null,null,{"$f":"ROUNDDOWN(SUM(L33:L34),-1)","v":11250580},{"$f":"ROUNDDOWN(SUM(M33:M34),-1)","v":31142170},10]
["일   반   관   리   비    (D)",null,null,{"$f":"INT(D27*H36)","v":2126162},null,"(A+B+C)","×",{"$f":"I36","v":0.06},{"$f":"VLOOKUP(C3,적용기준!A:N,13,FALSE)","v":0.06},{"$f":"IF(H36=I36,\"정상\",\"수정\")","v":"정상"},null,{"$f":"INT(L27*$H$36)","v":525721},{"$f":"INT(M27*$H$36)","v":1544847},55594]
["이                    윤     (E)",null,null,{"$f":"(D11+D26+D36)*H37","v":1762283.0506499999},null,"(B+C+D)","×",{"$f":"I37","v":0.15},{"$f":"VLOOKUP(C3,적용기준!A:N,14,FALSE)","v":0.15},{"$f":"IF(H37=I37,\"정상\",\"수정\")","v":"정상"},null,{"$f":"(L11+L26+L36)*$H$37","v":631721.14447499998},{"$f":"(M11+M26+M36)*$H$37","v":983238.23235000006},147323.67382499983]
["폐   기   물     처   리   비",null,null,{"$f":"L38+M38","v":343861},null,null,null,null,null,null,null,308337,35524,0]
["총             원             가",null,null,{"$f":"D27+D36+D37+D38","v":39668351.721650004},null,null,null,null,null,null,null,{"$f":"L27+L36+L37+L38","v":10227802.440974999},{"$f":"M27+M36+M37+M38","v":28311067.781349998},1129481.4993250072]
["부             가             세",null,null,{"$f":"INT(D39*10%)","v":3966835},null,"총원가","×",0.1,null,null,null,{"$f":"INT(L39*10%)","v":1022780},{"$f":"INT(M39*10%)","v":2831106},112949]
["관       급         자       재",null,null,{"$f":"L41+M41","v":1670790},null,null,null,null,null,null,null,1549360,{"$f":"121430","v":121430}]
["도             급             액",null,null,{"$f":"ROUNDDOWN(SUM(D39:D40),-1)","v":43635180},0.87744999999999995,{"$f":"ROUNDDOWN(D42*E42,-1)","v":38287680},null,null,null,null,null,{"$f":"ROUNDDOWN(SUM(L39:L40),-1)","v":11250580},{"$f":"ROUNDDOWN(SUM(M39:M40),-1)","v":31142170},1242430]

{"sheet":"원가","index":1,"n_rows":33,"n_cols":11,"rows_kept":33,"cut":false,"hidden":false,"merged":[[19,10,21,10],[1,2,1,7],[32,5,32,7],[31,0,31,2],[32,0,32,2],[29,0,29,2],[5,1,7,1],[11,1,25,1],[30,0,30,2],[0,0,0,7],[3,0,3,2],[3,3,4,3],[3,4,4,4],[3,5,4,7],[26,1,26,2],[1,0,1,1],[2,3,2,7],[4,0,4,2],[8,1,10,1],[5,0,26,0],[2,0,2,1],[27,0,27,2],[28,0,28,2]]}
["공  사  원  가  계  산  서"]
["공사명:",null,{"$f":"'원가 (안전관리비 자동계산)'!C2:H2","v":"OO중 외벽개선, 창호교체 공사건 (합계)"}]
["적용기준 :",null,"2017 상반기",{"$f":"'원가 (안전관리비 자동계산)'!D3","v":"적용기준: 5억미만, 6개월이하 자료임, 그이상 자료는 교육시설과 일위대가표 참조                                     170608"}]
["구          분",null,null,"금           액","사용여부","비                  고"]
["비          목"]
["순    공    사    원    가","재료비","직 접 재 료 비",31389543]
[null,null,"작 업 부 산 물",{"$f":"'원가 (안전관리비 자동계산)'!D7","v":0}]
[null,null,"소     계   (A)",{"$f":"D6-D7","v":31389543}]
[null,"노무비","직접노무비 (가)",{"$f":"'원가 (안전관리비 자동계산)'!D9","v":5809546}]
[null,null,"간 접 노 무 비",{"$f":"INT(D9*H10)","v":563525},null,"(가)","×",{"$f":"I10","v":9.7000000000000003E-2},{"$f":"VLOOKUP(C3,적용기준!A:N,2,FALSE)","v":9.7000000000000003E-2},{"$f":"IF(H10=I10,\"정상\",\"수정\")","v":"정상"}]
[null,null,"소     계   (B)",{"$f":"SUM(D9:D10)","v":6373071}]
[null,"경비","기   계  경  비",{"$f":"'원가 (안전관리비 자동계산)'!D12","v":17935}]
[null,null,"산   출  경  비",{"$f":"'원가 (안전관리비 자동계산)'!D13","v":0}]
[null,null,"산 재 보 험 료",{"$f":"IF(E14=\"적용\",INT(D11*H14),0)","v":248549},"적용","(B)","×",{"$f":"I14","v":3.9E-2},{"$f":"VLOOKUP(C3,적용기준!A:N,5,FALSE)","v":3.9E-2},{"$f":"IF(H14=I14,\"정상\",\"수정\")","v":"정상"}]
[null,null,"고  용   보  험",{"$f":"IF(E15=\"적용\",INT(D11*H15),0)","v":55445},"적용","(B)","×",{"$f":"I15","v":8.6999999999999994E-3},{"$f":"VLOOKUP(C3,적용기준!A:N,7,FALSE)","v":8.6999999999999994E-3},{"$f":"IF(H15=I15,\"정상\",\"수정\")","v":"정상"}]
[null,null,"안전관리비(비율)",{"$f":"IF(E16=\"미적용\",0,+(D8+D9)*H16)","v":1089933.3077},"적용","(A+가)","×",{"$f":"I16","v":2.93E-2},{"$f":"VLOOKUP(C3,적용기준!A:N,4,FALSE)","v":2.93E-2},{"$f":"IF(H16=I16,\"정상\",\"수정\")","v":"정상"},{"$f":"IF(D33<40000000,\"미적용대상\",\"적용대상\")","v":"적용대상"}]
[null,null,"안전관리비기본경비"]
[null,null,"퇴직공제부금비",{"$f":"IF(E18=\"적용\",INT(D9*H18),0)","v":0},"미적용","(가)","×",{"$f":"I18","v":2.3E-2},{"$f":"VLOOKUP(C3,적용기준!A:N,6,FALSE)","v":2.3E-2},"정상",{"$f":"IF(D33<300000000,\"미적용대상\",\"적용대상\")","v":"미적용대상"}]
[null,null,"환  경  보 전 비",{"$f":"IF(E19=\"적용\",INT((D8+D9+D12)*H19),0)","v":0},"미적용","(A+가+기계경비)","×",5.0000000000000001E-3,{"$f":"VLOOKUP(C3,적용기준!A:N,11,FALSE)","v":5.0000000000000001E-3},"정상"]
[null,null,"건 강 보 험 료",{"$f":"IF(E20=\"적용\",INT(D9*H20),0)","v":98762},"적용","(가)","×",1.7000000000000001E-2,{"$f":"VLOOKUP(C3,적용기준!A:N,9,FALSE)","v":1.7000000000000001E-2},"정상","1개월이상 공사 해당"]
[null,null,"노인장기요양보험료",{"$f":"+D20*H21","v":6468.9110000000001},null,"(건강보험료)","×",{"$f":"I21","v":6.5500000000000003E-2},{"$f":"VLOOKUP(C3,적용기준!A:N,10,FALSE)","v":6.5500000000000003E-2},{"$f":"IF(H21=I21,\"정상\",\"수정\")","v":"정상"}]
[null,null,"연 금 보 험 료",{"$f":"IF(E22=\"적용\",INT(D9*H22),0)","v":144657},"적용","(가)","×",2.4899999999999999E-2,{"$f":"VLOOKUP(C3,적용기준!A:N,8,FALSE)","v":2.4899999999999999E-2},"정상"]
[null,null,"기  타   경  비",{"$f":"INT((D8+D11)*H23)","v":1812605},null,"(A+B)","×",4.8000000000000001E-2,{"$f":"VLOOKUP(C3,적용기준!A:N,3,FALSE)","v":4.8000000000000001E-2},"정상"]
[null,null,"하도급지급보증수수료",{"$f":"IF(E24=\"적용\",INT((D8+D9+D12)*H24),0)","v":0},"미적용","(A+가+기계경비)","×",8.0999999999999996E-4,{"$f":"VLOOKUP(C3,적용기준!A:N,12,FALSE)","v":8.0999999999999996E-4},"정상"]
[null,null,"건설기계대여금\n지급보증서발급수수료",{"$f":"IF(E25=\"적용\",INT((D8+D9+D12)*H25),0)","v":0},"미적용","(A+가+기계경비)","×",6.9999999999999999E-4,{"$f":"VLOOKUP(C3,적용기준!A:O,15,FALSE)","v":6.9999999999999999E-4},"정상"]
[null,null,"소     계   (C)",{"$f":"SUM(D12:D25)","v":3474355.2187000001}]
[null,"합                   계",null,{"$f":"+D8+D11+D26","v":41236969.218699999}]
["일   반   관   리   비    (D)",null,null,{"$f":"INT(D27*H28)","v":2474218},null,"(A+B+C)","×",{"$f":"I28","v":0.06},{"$f":"VLOOKUP(C3,적용기준!A:N,13,FALSE)","v":0.06},"정상"]
["이                    윤     (E)",null,null,{"$f":"(D11+D26+D28)*H29","v":1848246.6328049998},null,"(B+C+D)","×",{"$f":"I29","v":0.15},{"$f":"VLOOKUP(C3,적용기준!A:N,14,FALSE)","v":0.15},"정상"]
["폐   기   물     처   리   비",null,null,{"$f":"'원가 (안전관리비 자동계산)'!D38","v":343861}]
["총             원             가",null,null,{"$f":"D27+D28+D29+D30","v":45903294.851504996}]
["부             가             세",null,null,{"$f":"INT(D31*10%)","v":4590329},null,"총원가","×",0.1]
["합                             계",null,null,{"$f":"ROUNDDOWN(SUM(D31:D32),-1)","v":50493620},0.87744999999999995,{"$f":"ROUNDDOWN(D33*E33,-3)","v":44305000}]

{"sheet":"적용기준","index":2,"n_rows":13,"n_cols":15,"rows_kept":13,"cut":false,"hidden":false,"merged":[]}
[null,{"$f":"원가!D3","v":"적용기준: 5억미만, 6개월이하 자료임, 그이상 자료는 교육시설과 일위대가표 참조                                     170608"}]
["구분","간접노무비","기타경비","안전보건관리비","산재보험료","근로자퇴직공제","고용보험료","국민연금보험료","국민건강보험료","노인장기요양보험","환경보전비","건설하도급대금지급보증서 발급수수료","일반관리비","이윤","건설기계대여금 지급보증서발급수수료"]
[null,null,null,"4천만원 이상","모든 건설공사","3억원 이상","모든 건설공사","공사기간 1개월이상 모든 공사","공사기간 1개월이상 모든 공사","공사기간 1개월이상 모든 공사"]
[null,"(직노)*율","(재+노)*율","(직재+직노+관급)*율","(노)*율","(직노*율)","(노)*율","(직노)*율","(직노)*율","(건강보험료)*율","(재+직노+산경)*율","(재+직노+산경)*율","(재+노+경)*율","(노+경+일)*율","국토교통부 고시 제2013-331호(2013.6.19)"]
["2013 상반기",9.5000000000000001E-2,5.6000000000000001E-2,2.4799999999999999E-2,3.6999999999999998E-2,2.3E-2,7.9000000000000008E-3,2.4899999999999999E-2,1.7000000000000001E-2,6.5500000000000003E-2,5.0000000000000001E-3,6.9999999999999999E-4,0.06,0.15]
["2013 하반기",8.8999999999999996E-2,5.3999999999999999E-2,2.4799999999999999E-2,3.6999999999999998E-2,2.3E-2,7.9000000000000008E-3,2.4899999999999999E-2,1.7000000000000001E-2,6.5500000000000003E-2,5.0000000000000001E-3,6.9999999999999999E-4,0.06,0.15]
["2014 상반기",8.8999999999999996E-2,5.3999999999999999E-2,2.93E-2,3.7999999999999999E-2,2.3E-2,8.6999999999999994E-3,2.4899999999999999E-2,1.7000000000000001E-2,6.5500000000000003E-2,5.0000000000000001E-3,8.0999999999999996E-4,0.06,0.15]
["2014 하반기",9.0999999999999998E-2,5.0999999999999997E-2,2.93E-2,3.7999999999999999E-2,2.3E-2,8.6999999999999994E-3,2.4899999999999999E-2,1.7000000000000001E-2,6.5500000000000003E-2,5.0000000000000001E-3,8.0999999999999996E-4,0.06,0.15]
["2015 상반기",9.0999999999999998E-2,5.0999999999999997E-2,2.93E-2,3.7999999999999999E-2,2.3E-2,8.6999999999999994E-3,2.4899999999999999E-2,1.7000000000000001E-2,6.5500000000000003E-2,5.0000000000000001E-3,8.0999999999999996E-4,0.06,0.15]
["2015 하반기",9.6000000000000002E-2,5.1999999999999998E-2,2.93E-2,3.7999999999999999E-2,2.3E-2,8.6999999999999994E-3,2.4899999999999999E-2,1.7000000000000001E-2,6.5500000000000003E-2,5.0000000000000001E-3,8.0999999999999996E-4,0.06,0.15]
["2016 상반기",9.6000000000000002E-2,5.1999999999999998E-2,2.93E-2,3.7999999999999999E-2,2.3E-2,8.6999999999999994E-3,2.4899999999999999E-2,1.7000000000000001E-2,6.5500000000000003E-2,5.0000000000000001E-3,8.0999999999999996E-4,0.06,0.15,6.9999999999999999E-4]
["2016 하반기",9.9000000000000005E-2,0.05,2.93E-2,3.7999999999999999E-2,2.3E-2,8.6999999999999994E-3,2.4899999999999999E-2,1.7000000000000001E-2,6.5500000000000003E-2,5.0000000000000001E-3,8.0999999999999996E-4,0.06,0.15]
["2017 상반기",9.7000000000000003E-2,4.8000000000000001E-2,2.93E-2,3.9E-2,2.3E-2,8.6999999999999994E-3,2.4899999999999999E-2,1.7000000000000001E-2,6.5500000000000003E-2,5.0000000000000001E-3,8.0999999999999996E-4,0.06,0.15,6.9999999999999999E-4]